Package: msmsEDA Version: 1.49.0 Command: /home/biocbuild/bbs-3.23-bioc/R/bin/R CMD INSTALL msmsEDA StartedAt: 2025-11-06 15:36:35 -0500 (Thu, 06 Nov 2025) EndedAt: 2025-11-06 15:37:14 -0500 (Thu, 06 Nov 2025) EllapsedTime: 38.2 seconds RetCode: 0 Status: OK