Package: msmsEDA Version: 1.49.0 Command: /home/biocbuild/bbs-3.23-bioc/R/bin/R CMD check --install=check:msmsEDA.install-out.txt --library=/home/biocbuild/bbs-3.23-bioc/R/site-library --timings msmsEDA_1.49.0.tar.gz StartedAt: 2025-11-17 01:51:29 -0500 (Mon, 17 Nov 2025) EndedAt: 2025-11-17 01:54:23 -0500 (Mon, 17 Nov 2025) EllapsedTime: 173.2 seconds RetCode: 0 Status: OK CheckDir: msmsEDA.Rcheck Warnings: 0