Package: msmsEDA Version: 1.49.0 Command: /home/biocbuild/bbs-3.23-bioc/R/bin/R CMD build --keep-empty-dirs --no-resave-data msmsEDA StartedAt: 2025-11-06 18:46:59 -0500 (Thu, 06 Nov 2025) EndedAt: 2025-11-06 18:47:53 -0500 (Thu, 06 Nov 2025) EllapsedTime: 54.0 seconds RetCode: 0 Status: OK PackageFile: msmsEDA_1.49.0.tar.gz PackageFileSize: 439.5 KiB