Package: mslp Version: 1.13.0 Command: /home/biocbuild/bbs-3.23-bioc/R/bin/R CMD INSTALL mslp StartedAt: 2025-11-20 15:26:47 -0500 (Thu, 20 Nov 2025) EndedAt: 2025-11-20 15:26:49 -0500 (Thu, 20 Nov 2025) EllapsedTime: 2.0 seconds RetCode: 0 Status: OK