Package: mslp Version: 1.13.0 Command: /home/biocbuild/bbs-3.23-bioc/R/bin/R CMD build --keep-empty-dirs --no-resave-data mslp StartedAt: 2025-11-20 18:52:20 -0500 (Thu, 20 Nov 2025) EndedAt: 2025-11-20 18:52:51 -0500 (Thu, 20 Nov 2025) EllapsedTime: 31.0 seconds RetCode: 0 Status: OK PackageFile: mslp_1.13.0.tar.gz PackageFileSize: 407.6 KiB