Package: mslp Version: 1.11.0 Command: /Library/Frameworks/R.framework/Resources/bin/R CMD INSTALL mslp StartedAt: 2025-10-12 15:26:18 -0400 (Sun, 12 Oct 2025) EndedAt: 2025-10-12 15:26:24 -0400 (Sun, 12 Oct 2025) EllapsedTime: 6.8 seconds RetCode: 0 Status: OK