Package: mslp Version: 1.11.0 Command: /Library/Frameworks/R.framework/Resources/bin/R CMD build --keep-empty-dirs --no-resave-data mslp StartedAt: 2025-10-12 18:10:57 -0400 (Sun, 12 Oct 2025) EndedAt: 2025-10-12 18:11:55 -0400 (Sun, 12 Oct 2025) EllapsedTime: 57.9 seconds RetCode: 0 Status: OK PackageFile: mslp_1.11.0.tar.gz PackageFileSize: 407.5 KiB