Package: mslp Version: 1.11.0 Command: rm -rf mslp.buildbin-libdir && mkdir mslp.buildbin-libdir && /Users/biocbuild/BBS/utils/build-universal.sh mslp_1.11.0.tar.gz /Library/Frameworks/R.framework/Resources/bin/R mslp.buildbin-libdir StartedAt: 2025-10-14 02:55:46 -0400 (Tue, 14 Oct 2025) EndedAt: 2025-10-14 02:55:53 -0400 (Tue, 14 Oct 2025) EllapsedTime: 6.9 seconds RetCode: 0 Status: OK PackageFile: mslp_1.11.0.tgz PackageFileSize: 452.6 KiB