Package: mslp Version: 1.12.0 Maintainer: Chunxuan Shao MaintainerEmail: chunxuan at outlook.com git_url: https://git.bioconductor.org/packages/mslp git_branch: RELEASE_3_22 git_last_commit: 47d65b8 git_last_commit_date: 2025-10-29 11:17:38 -0400 (Wed, 29 Oct 2025)