Package: msgbsR Version: 1.35.0 Command: /home/biocbuild/bbs-3.23-bioc/R/bin/R CMD check --install=check:msgbsR.install-out.txt --library=/home/biocbuild/bbs-3.23-bioc/R/site-library --timings msgbsR_1.35.0.tar.gz StartedAt: 2025-11-06 01:41:42 -0500 (Thu, 06 Nov 2025) EndedAt: 2025-11-06 01:49:08 -0500 (Thu, 06 Nov 2025) EllapsedTime: 446.5 seconds RetCode: 0 Status: OK CheckDir: msgbsR.Rcheck Warnings: 0