Package: msgbsR Version: 1.33.1 Command: /Library/Frameworks/R.framework/Resources/bin/R CMD check --install=check:msgbsR.install-out.txt --library=/Library/Frameworks/R.framework/Resources/library --no-vignettes --timings msgbsR_1.33.1.tar.gz StartedAt: 2025-10-15 20:41:39 -0400 (Wed, 15 Oct 2025) EndedAt: 2025-10-15 20:44:17 -0400 (Wed, 15 Oct 2025) EllapsedTime: 157.9 seconds RetCode: 0 Status: OK CheckDir: msgbsR.Rcheck Warnings: 0