Package: msa Version: 1.41.3 Command: /home/biocbuild/bbs-3.22-bioc/R/bin/R CMD INSTALL msa StartedAt: 2025-10-03 15:30:50 -0400 (Fri, 03 Oct 2025) EndedAt: 2025-10-03 15:35:02 -0400 (Fri, 03 Oct 2025) EllapsedTime: 251.8 seconds RetCode: 0 Status: OK