Package: msa Version: 1.43.1 Command: /home/biocbuild/bbs-3.23-bioc/R/bin/R CMD build --keep-empty-dirs --no-resave-data msa StartedAt: 2025-11-20 18:50:38 -0500 (Thu, 20 Nov 2025) EndedAt: 2025-11-20 18:55:11 -0500 (Thu, 20 Nov 2025) EllapsedTime: 272.3 seconds RetCode: 0 Status: OK PackageFile: msa_1.43.1.tar.gz PackageFileSize: 3.911 MiB