Package: msa Version: 1.43.1 Command: /Library/Frameworks/R.framework/Resources/bin/R CMD build --keep-empty-dirs --no-resave-data msa StartedAt: 2025-11-20 17:52:11 -0500 (Thu, 20 Nov 2025) EndedAt: 2025-11-20 17:59:29 -0500 (Thu, 20 Nov 2025) EllapsedTime: 438.1 seconds RetCode: 0 Status: OK PackageFile: msa_1.43.1.tar.gz PackageFileSize: 3.909 MiB