Package: msa Version: 1.43.1 Command: rm -rf msa.buildbin-libdir && mkdir msa.buildbin-libdir && /Users/biocbuild/BBS/utils/build-universal.sh msa_1.43.1.tar.gz /Library/Frameworks/R.framework/Resources/bin/R msa.buildbin-libdir StartedAt: 2025-11-21 01:44:43 -0500 (Fri, 21 Nov 2025) EndedAt: 2025-11-21 01:52:42 -0500 (Fri, 21 Nov 2025) EllapsedTime: 479.2 seconds RetCode: 0 Status: OK PackageFile: msa_1.43.1.tgz PackageFileSize: 1.791 MiB