Package: msa Version: 1.41.3 Command: /Library/Frameworks/R.framework/Resources/bin/R CMD INSTALL msa StartedAt: 2025-10-06 15:10:01 -0400 (Mon, 06 Oct 2025) EndedAt: 2025-10-06 15:11:40 -0400 (Mon, 06 Oct 2025) EllapsedTime: 99.0 seconds RetCode: 0 Status: OK