Package: msa Version: 1.41.3 Command: /Library/Frameworks/R.framework/Resources/bin/R CMD build --keep-empty-dirs --no-resave-data msa StartedAt: 2025-10-07 17:09:15 -0400 (Tue, 07 Oct 2025) EndedAt: 2025-10-07 17:11:16 -0400 (Tue, 07 Oct 2025) EllapsedTime: 121.3 seconds RetCode: 0 Status: OK PackageFile: msa_1.41.3.tar.gz PackageFileSize: 3.912 MiB