Package: msa Version: 1.41.3 Command: rm -rf msa.buildbin-libdir && mkdir msa.buildbin-libdir && /Users/biocbuild/BBS/utils/build-universal.sh msa_1.41.3.tar.gz /Library/Frameworks/R.framework/Resources/bin/R msa.buildbin-libdir StartedAt: 2025-10-07 22:53:26 -0400 (Tue, 07 Oct 2025) EndedAt: 2025-10-07 22:55:18 -0400 (Tue, 07 Oct 2025) EllapsedTime: 112.3 seconds RetCode: 0 Status: OK PackageFile: msa_1.41.3.tgz PackageFileSize: 1.704 MiB