Package: msPurity Version: 1.37.0 Command: /home/biocbuild/bbs-3.23-bioc/R/bin/R CMD INSTALL msPurity StartedAt: 2025-11-20 15:31:00 -0500 (Thu, 20 Nov 2025) EndedAt: 2025-11-20 15:31:11 -0500 (Thu, 20 Nov 2025) EllapsedTime: 11.3 seconds RetCode: 0 Status: OK