Package: msPurity Version: 1.35.0 Command: /Library/Frameworks/R.framework/Resources/bin/R CMD INSTALL msPurity StartedAt: 2025-10-17 15:28:44 -0400 (Fri, 17 Oct 2025) EndedAt: 2025-10-17 15:29:02 -0400 (Fri, 17 Oct 2025) EllapsedTime: 17.8 seconds RetCode: 0 Status: OK