Package: msPurity Version: 1.35.0 Command: /Library/Frameworks/R.framework/Resources/bin/R CMD build --keep-empty-dirs --no-resave-data msPurity StartedAt: 2025-10-17 18:20:41 -0400 (Fri, 17 Oct 2025) EndedAt: 2025-10-17 18:31:29 -0400 (Fri, 17 Oct 2025) EllapsedTime: 648.0 seconds RetCode: 0 Status: OK PackageFile: msPurity_1.35.0.tar.gz PackageFileSize: 11.29 MiB