Package: msPurity Version: 1.35.0 Command: rm -rf msPurity.buildbin-libdir && mkdir msPurity.buildbin-libdir && /Users/biocbuild/BBS/utils/build-universal.sh msPurity_1.35.0.tar.gz /Library/Frameworks/R.framework/Resources/bin/R msPurity.buildbin-libdir StartedAt: 2025-10-18 03:09:47 -0400 (Sat, 18 Oct 2025) EndedAt: 2025-10-18 03:10:11 -0400 (Sat, 18 Oct 2025) EllapsedTime: 24.3 seconds RetCode: 0 Status: OK PackageFile: msPurity_1.35.0.tgz PackageFileSize: 11.41 MiB