Package: msPurity Version: 1.35.0 Command: /Library/Frameworks/R.framework/Resources/bin/R CMD build --keep-empty-dirs --no-resave-data msPurity StartedAt: 2025-09-29 17:07:12 -0400 (Mon, 29 Sep 2025) EndedAt: 2025-09-29 17:10:18 -0400 (Mon, 29 Sep 2025) EllapsedTime: 185.1 seconds RetCode: 0 Status: OK PackageFile: msPurity_1.35.0.tar.gz PackageFileSize: 11.29 MiB