Package: msImpute Version: 1.19.0 Command: /home/biocbuild/bbs-3.22-bioc/R/bin/R CMD INSTALL msImpute StartedAt: 2025-10-16 16:58:39 -0400 (Thu, 16 Oct 2025) EndedAt: 2025-10-16 16:59:09 -0400 (Thu, 16 Oct 2025) EllapsedTime: 30.0 seconds RetCode: 0 Status: OK