Package: msImpute Version: 1.19.0 Command: /home/biocbuild/bbs-3.22-bioc/R/bin/R CMD build --keep-empty-dirs --no-resave-data --md5 msImpute StartedAt: 2025-10-16 19:55:46 -0400 (Thu, 16 Oct 2025) EndedAt: 2025-10-16 19:56:58 -0400 (Thu, 16 Oct 2025) EllapsedTime: 72.1 seconds RetCode: 0 Status: OK PackageFile: msImpute_1.19.0.tar.gz PackageFileSize: 1.769 MiB