Package: msImpute Version: 1.21.0 Command: /home/biocbuild/bbs-3.23-bioc/R/bin/R CMD build --keep-empty-dirs --no-resave-data msImpute StartedAt: 2025-11-23 18:52:53 -0500 (Sun, 23 Nov 2025) EndedAt: 2025-11-23 18:53:58 -0500 (Sun, 23 Nov 2025) EllapsedTime: 65.0 seconds RetCode: 0 Status: OK PackageFile: msImpute_1.21.0.tar.gz PackageFileSize: 1.771 MiB