Package: mpra Version: 1.33.0 Command: /home/biocbuild/bbs-3.23-bioc/R/bin/R CMD INSTALL mpra StartedAt: 2025-11-20 15:17:52 -0500 (Thu, 20 Nov 2025) EndedAt: 2025-11-20 15:18:16 -0500 (Thu, 20 Nov 2025) EllapsedTime: 24.0 seconds RetCode: 0 Status: OK