Package: mpra Version: 1.33.0 Command: /home/biocbuild/bbs-3.23-bioc/R/bin/R CMD build --keep-empty-dirs --no-resave-data mpra StartedAt: 2025-11-20 18:50:18 -0500 (Thu, 20 Nov 2025) EndedAt: 2025-11-20 18:51:08 -0500 (Thu, 20 Nov 2025) EllapsedTime: 50.0 seconds RetCode: 0 Status: OK PackageFile: mpra_1.33.0.tar.gz PackageFileSize: 3.079 MiB