Package: mpra Version: 1.31.0 Command: /Library/Frameworks/R.framework/Resources/bin/R CMD INSTALL mpra StartedAt: 2025-10-16 15:46:56 -0400 (Thu, 16 Oct 2025) EndedAt: 2025-10-16 15:47:31 -0400 (Thu, 16 Oct 2025) EllapsedTime: 34.5 seconds RetCode: 0 Status: OK