Package: mpra Version: 1.31.0 Command: /Library/Frameworks/R.framework/Resources/bin/R CMD build --keep-empty-dirs --no-resave-data mpra StartedAt: 2025-10-16 18:42:53 -0400 (Thu, 16 Oct 2025) EndedAt: 2025-10-16 18:45:23 -0400 (Thu, 16 Oct 2025) EllapsedTime: 149.7 seconds RetCode: 0 Status: OK PackageFile: mpra_1.31.0.tar.gz PackageFileSize: 3.329 MiB