Package: mpra Version: 1.31.0 Command: /Library/Frameworks/R.framework/Resources/bin/R CMD INSTALL mpra StartedAt: 2025-10-03 15:11:55 -0400 (Fri, 03 Oct 2025) EndedAt: 2025-10-03 15:12:05 -0400 (Fri, 03 Oct 2025) EllapsedTime: 10.1 seconds RetCode: 0 Status: OK