Package: mpra Version: 1.31.0 Command: rm -rf mpra.buildbin-libdir && mkdir mpra.buildbin-libdir && /Users/biocbuild/BBS/utils/build-universal.sh mpra_1.31.0.tar.gz /Library/Frameworks/R.framework/Resources/bin/R mpra.buildbin-libdir StartedAt: 2025-10-03 22:47:20 -0400 (Fri, 03 Oct 2025) EndedAt: 2025-10-03 22:47:30 -0400 (Fri, 03 Oct 2025) EllapsedTime: 10.2 seconds RetCode: 0 Status: OK PackageFile: mpra_1.31.0.tgz PackageFileSize: 3.552 MiB