Package: motifmatchr Version: 1.33.0 Command: /home/biocbuild/bbs-3.23-bioc/R/bin/R CMD INSTALL motifmatchr StartedAt: 2025-11-20 15:51:11 -0500 (Thu, 20 Nov 2025) EndedAt: 2025-11-20 15:52:12 -0500 (Thu, 20 Nov 2025) EllapsedTime: 60.5 seconds RetCode: 0 Status: OK