Package: motifmatchr Version: 1.33.0 Command: /home/biocbuild/bbs-3.23-bioc/R/bin/R CMD build --keep-empty-dirs --no-resave-data motifmatchr StartedAt: 2025-11-20 18:49:14 -0500 (Thu, 20 Nov 2025) EndedAt: 2025-11-20 18:51:04 -0500 (Thu, 20 Nov 2025) EllapsedTime: 110.1 seconds RetCode: 0 Status: OK PackageFile: motifmatchr_1.33.0.tar.gz PackageFileSize: 51.7 KiB