Package: motifmatchr Version: 1.31.1 Command: /Library/Frameworks/R.framework/Resources/bin/R CMD INSTALL motifmatchr StartedAt: 2025-10-21 15:44:56 -0400 (Tue, 21 Oct 2025) EndedAt: 2025-10-21 15:46:13 -0400 (Tue, 21 Oct 2025) EllapsedTime: 76.8 seconds RetCode: 0 Status: OK