Package: motifmatchr Version: 1.31.1 Command: /Library/Frameworks/R.framework/Resources/bin/R CMD build --keep-empty-dirs --no-resave-data motifmatchr StartedAt: 2025-10-22 17:48:05 -0400 (Wed, 22 Oct 2025) EndedAt: 2025-10-22 17:50:45 -0400 (Wed, 22 Oct 2025) EllapsedTime: 159.9 seconds RetCode: 0 Status: OK PackageFile: motifmatchr_1.31.1.tar.gz PackageFileSize: 51.61 KiB