Package: motifmatchr Version: 1.31.1 Command: rm -rf motifmatchr.buildbin-libdir && mkdir motifmatchr.buildbin-libdir && /Users/biocbuild/BBS/utils/build-universal.sh motifmatchr_1.31.1.tar.gz /Library/Frameworks/R.framework/Resources/bin/R motifmatchr.buildbin-libdir StartedAt: 2025-10-23 01:43:30 -0400 (Thu, 23 Oct 2025) EndedAt: 2025-10-23 01:44:49 -0400 (Thu, 23 Oct 2025) EllapsedTime: 79.6 seconds RetCode: 0 Status: OK PackageFile: motifmatchr_1.31.1.tgz PackageFileSize: 196.8 KiB