Package: motifmatchr Version: 1.31.1 Command: /Library/Frameworks/R.framework/Resources/bin/R CMD INSTALL motifmatchr StartedAt: 2025-10-13 15:27:43 -0400 (Mon, 13 Oct 2025) EndedAt: 2025-10-13 15:28:04 -0400 (Mon, 13 Oct 2025) EllapsedTime: 20.7 seconds RetCode: 0 Status: OK