Package: motifmatchr Version: 1.31.1 Command: /Library/Frameworks/R.framework/Resources/bin/R CMD build --keep-empty-dirs --no-resave-data motifmatchr StartedAt: 2025-10-13 17:06:26 -0400 (Mon, 13 Oct 2025) EndedAt: 2025-10-13 17:07:20 -0400 (Mon, 13 Oct 2025) EllapsedTime: 53.6 seconds RetCode: 0 Status: OK PackageFile: motifmatchr_1.31.1.tar.gz PackageFileSize: 51.6 KiB