Package: motifmatchr Version: 1.31.1 Command: rm -rf motifmatchr.buildbin-libdir && mkdir motifmatchr.buildbin-libdir && /Users/biocbuild/BBS/utils/build-universal.sh motifmatchr_1.31.1.tar.gz /Library/Frameworks/R.framework/Resources/bin/R motifmatchr.buildbin-libdir StartedAt: 2025-10-13 22:50:09 -0400 (Mon, 13 Oct 2025) EndedAt: 2025-10-13 22:50:32 -0400 (Mon, 13 Oct 2025) EllapsedTime: 22.4 seconds RetCode: 0 Status: OK PackageFile: motifmatchr_1.31.1.tgz PackageFileSize: 183.5 KiB