Package: motifmatchr Version: 1.33.0 Maintainer: Alicia Schep MaintainerEmail: aschep at gmail.com git_url: https://git.bioconductor.org/packages/motifmatchr git_branch: devel git_last_commit: c2e55a2 git_last_commit_date: 2025-10-29 10:38:55 -0400 (Wed, 29 Oct 2025)