Package: motifcounter Version: 1.33.0 Command: /home/biocbuild/bbs-3.22-bioc/R/bin/R CMD build --keep-empty-dirs --no-resave-data --md5 motifcounter StartedAt: 2025-10-10 18:59:05 -0400 (Fri, 10 Oct 2025) EndedAt: 2025-10-10 19:00:04 -0400 (Fri, 10 Oct 2025) EllapsedTime: 59.0 seconds RetCode: 0 Status: OK PackageFile: motifcounter_1.33.0.tar.gz PackageFileSize: 561.2 KiB