Package: motifbreakR Version: 2.25.0 Command: /home/biocbuild/bbs-3.23-bioc/R/bin/R CMD build --keep-empty-dirs --no-resave-data motifbreakR StartedAt: 2025-11-19 18:51:20 -0500 (Wed, 19 Nov 2025) EndedAt: 2025-11-19 18:56:50 -0500 (Wed, 19 Nov 2025) EllapsedTime: 330.3 seconds RetCode: 1 Status: ERROR PackageFile: None PackageFileSize: NA