Package: motifbreakR Version: 2.23.0 Command: /Library/Frameworks/R.framework/Resources/bin/R CMD build --keep-empty-dirs --no-resave-data motifbreakR StartedAt: 2025-10-23 17:46:54 -0400 (Thu, 23 Oct 2025) EndedAt: 2025-10-23 17:57:19 -0400 (Thu, 23 Oct 2025) EllapsedTime: 624.8 seconds RetCode: 0 Status: OK PackageFile: motifbreakR_2.23.0.tar.gz PackageFileSize: 2.489 MiB