Package: motifbreakR Version: 2.23.0 Command: rm -rf motifbreakR.buildbin-libdir && mkdir motifbreakR.buildbin-libdir && /Users/biocbuild/BBS/utils/build-universal.sh motifbreakR_2.23.0.tar.gz /Library/Frameworks/R.framework/Resources/bin/R motifbreakR.buildbin-libdir StartedAt: 2025-10-24 01:45:12 -0400 (Fri, 24 Oct 2025) EndedAt: 2025-10-24 01:46:51 -0400 (Fri, 24 Oct 2025) EllapsedTime: 98.9 seconds RetCode: 0 Status: OK PackageFile: motifbreakR_2.23.0.tgz PackageFileSize: 2.443 MiB