Package: motifbreakR Version: 2.23.0 Command: /Library/Frameworks/R.framework/Resources/bin/R CMD INSTALL motifbreakR StartedAt: 2025-10-06 15:27:56 -0400 (Mon, 06 Oct 2025) EndedAt: 2025-10-06 15:28:23 -0400 (Mon, 06 Oct 2025) EllapsedTime: 27.8 seconds RetCode: 0 Status: OK