Package: motifbreakR Version: 2.23.0 Command: /Library/Frameworks/R.framework/Resources/bin/R CMD build --keep-empty-dirs --no-resave-data motifbreakR StartedAt: 2025-10-06 17:06:36 -0400 (Mon, 06 Oct 2025) EndedAt: 2025-10-06 17:09:11 -0400 (Mon, 06 Oct 2025) EllapsedTime: 155.7 seconds RetCode: 0 Status: OK PackageFile: motifbreakR_2.23.0.tar.gz PackageFileSize: 2.49 MiB