Package: motifTestR Version: 1.5.3 Command: /home/biocbuild/R/R/bin/R CMD INSTALL motifTestR StartedAt: 2025-10-20 20:37:10 -0000 (Mon, 20 Oct 2025) EndedAt: 2025-10-20 20:37:30 -0000 (Mon, 20 Oct 2025) EllapsedTime: 20.2 seconds RetCode: 0 Status: OK