Package: motifTestR Version: 1.5.3 Command: /home/biocbuild/R/R/bin/R CMD build --keep-empty-dirs --no-resave-data motifTestR StartedAt: 2025-10-21 01:27:55 -0000 (Tue, 21 Oct 2025) EndedAt: 2025-10-21 01:29:48 -0000 (Tue, 21 Oct 2025) EllapsedTime: 113.0 seconds RetCode: 0 Status: OK PackageFile: motifTestR_1.5.3.tar.gz PackageFileSize: 842.9 KiB