Package: motifTestR Version: 1.5.3 Command: /Library/Frameworks/R.framework/Resources/bin/R CMD INSTALL motifTestR StartedAt: 2025-10-09 15:24:42 -0400 (Thu, 09 Oct 2025) EndedAt: 2025-10-09 15:25:05 -0400 (Thu, 09 Oct 2025) EllapsedTime: 23.3 seconds RetCode: 0 Status: OK